BEGIN:VCALENDAR
VERSION:2.0
PRODID:-//Downriver Genealogical Society - ECPv6.15.20//NONSGML v1.0//EN
CALSCALE:GREGORIAN
METHOD:PUBLISH
X-WR-CALNAME:Downriver Genealogical Society
X-ORIGINAL-URL:https://downrivergenealogy.org
X-WR-CALDESC:Events for Downriver Genealogical Society
REFRESH-INTERVAL;VALUE=DURATION:PT1H
X-Robots-Tag:noindex
X-PUBLISHED-TTL:PT1H
BEGIN:VTIMEZONE
TZID:America/Detroit
BEGIN:DAYLIGHT
TZOFFSETFROM:-0500
TZOFFSETTO:-0400
TZNAME:EDT
DTSTART:20240310T070000
END:DAYLIGHT
BEGIN:STANDARD
TZOFFSETFROM:-0400
TZOFFSETTO:-0500
TZNAME:EST
DTSTART:20241103T060000
END:STANDARD
BEGIN:DAYLIGHT
TZOFFSETFROM:-0500
TZOFFSETTO:-0400
TZNAME:EDT
DTSTART:20250309T070000
END:DAYLIGHT
BEGIN:STANDARD
TZOFFSETFROM:-0400
TZOFFSETTO:-0500
TZNAME:EST
DTSTART:20251102T060000
END:STANDARD
BEGIN:DAYLIGHT
TZOFFSETFROM:-0500
TZOFFSETTO:-0400
TZNAME:EDT
DTSTART:20260308T070000
END:DAYLIGHT
BEGIN:STANDARD
TZOFFSETFROM:-0400
TZOFFSETTO:-0500
TZNAME:EST
DTSTART:20261101T060000
END:STANDARD
END:VTIMEZONE
BEGIN:VEVENT
DTSTART;TZID=America/Detroit:20251119T190000
DTEND;TZID=America/Detroit:20251119T210000
DTSTAMP:20260421T083951
CREATED:20241008T104008Z
LAST-MODIFIED:20250813T090544Z
UID:225769-1763578800-1763586000@downrivergenealogy.org
SUMMARY:Easy as Pie: Using Foreign Language Newspapers in Your Genealogical Research with Karina Robinson
DESCRIPTION:Foreign Language Newspapers published in the U.S. and abroad can be wonderful genealogical resources even when you do not know the language they are printed in. We’ll discuss why this resource can be helpful to your research\, how to use foreign language newspapers when you aren’t familiar with or fluent in the language\, and where to easily access these under overlooked resources online.
URL:https://downrivergenealogy.org/event/foreign-newspaper-research-with-karina-robinson/
LOCATION:Copeland Center\, 2306 Fourth Street\, Wyandotte\, Michigan\, 48192
CATEGORIES:DRGS membership meetings
ATTACH;FMTTYPE=image/jpeg:https://downrivergenealogy.org/wp-content/uploads/2024/10/KarinaRobinson-e1755075909866.jpg
END:VEVENT
END:VCALENDAR