BEGIN:VCALENDAR
VERSION:2.0
PRODID:-//Downriver Genealogical Society - ECPv6.15.20//NONSGML v1.0//EN
CALSCALE:GREGORIAN
METHOD:PUBLISH
X-WR-CALNAME:Downriver Genealogical Society
X-ORIGINAL-URL:https://downrivergenealogy.org
X-WR-CALDESC:Events for Downriver Genealogical Society
REFRESH-INTERVAL;VALUE=DURATION:PT1H
X-Robots-Tag:noindex
X-PUBLISHED-TTL:PT1H
BEGIN:VTIMEZONE
TZID:America/Detroit
BEGIN:DAYLIGHT
TZOFFSETFROM:-0500
TZOFFSETTO:-0400
TZNAME:EDT
DTSTART:20240310T070000
END:DAYLIGHT
BEGIN:STANDARD
TZOFFSETFROM:-0400
TZOFFSETTO:-0500
TZNAME:EST
DTSTART:20241103T060000
END:STANDARD
BEGIN:DAYLIGHT
TZOFFSETFROM:-0500
TZOFFSETTO:-0400
TZNAME:EDT
DTSTART:20250309T070000
END:DAYLIGHT
BEGIN:STANDARD
TZOFFSETFROM:-0400
TZOFFSETTO:-0500
TZNAME:EST
DTSTART:20251102T060000
END:STANDARD
BEGIN:DAYLIGHT
TZOFFSETFROM:-0500
TZOFFSETTO:-0400
TZNAME:EDT
DTSTART:20260308T070000
END:DAYLIGHT
BEGIN:STANDARD
TZOFFSETFROM:-0400
TZOFFSETTO:-0500
TZNAME:EST
DTSTART:20261101T060000
END:STANDARD
END:VTIMEZONE
BEGIN:VEVENT
DTSTART;TZID=America/Detroit:20250917T190000
DTEND;TZID=America/Detroit:20250917T210000
DTSTAMP:20260421T112820
CREATED:20240117T115420Z
LAST-MODIFIED:20250418T101506Z
UID:225588-1758135600-1758142800@downrivergenealogy.org
SUMMARY:Fruits of Perseverance:  The French Presence in the Detroit River Region 1701-1815 with Dr. Guillaume Teasdale
DESCRIPTION:Founded by French military entrepreneur Antoine Laumet de Lamothe Cadillac in 1701\, colonial Detroit was occupied by thousands of French settlers who established deep roots on both sides of the river. The city’s unmistakable French past\, however\, has been long neglected in the historiography of New France and French North America. \nExploring the French colonial presence in Detroit\, from its establishment to its dissolution in the early nineteenth century\, Fruits of Perseverance explains how a society similar to the rural settlements of the Saint Lawrence valley developed in an isolated place and how it survived well beyond the fall of New France. As Guillaume Teasdale describes\, between the 1730s and 1750s\, French authorities played a significant role in promoting land occupation along the Detroit River by encouraging settlers to plant orchards and build farms and windmills. After New France’s defeat in 1763\, these settlers found themselves living under the British flag in an Aboriginal world shortly before the newly independent United States began its expansion west. \nFruits of Perseverance offers a window into the development of a French community in the borderlands of New France\, whose heritage is still celebrated today by tens of thousands of residents of southwest Ontario and southeast Michigan. \nThis presentation was previously scheduled for October 16\, 2024.
URL:https://downrivergenealogy.org/event/fruits-of-perseverance-the-french-presence-in-the-detroit-river-region-1701-1815-with-dr-guillaume-teasdale/
LOCATION:Copeland Center\, 2306 Fourth Street\, Wyandotte\, Michigan\, 48192
CATEGORIES:DRGS membership meetings
ATTACH;FMTTYPE=image/jpeg:https://downrivergenealogy.org/wp-content/uploads/2024/01/GuillaumeTeasdale-e1711549609814.jpg
END:VEVENT
END:VCALENDAR