BEGIN:VCALENDAR
VERSION:2.0
PRODID:-//Downriver Genealogical Society - ECPv6.15.20//NONSGML v1.0//EN
CALSCALE:GREGORIAN
METHOD:PUBLISH
X-WR-CALNAME:Downriver Genealogical Society
X-ORIGINAL-URL:https://downrivergenealogy.org
X-WR-CALDESC:Events for Downriver Genealogical Society
REFRESH-INTERVAL;VALUE=DURATION:PT1H
X-Robots-Tag:noindex
X-PUBLISHED-TTL:PT1H
BEGIN:VTIMEZONE
TZID:America/Detroit
BEGIN:DAYLIGHT
TZOFFSETFROM:-0500
TZOFFSETTO:-0400
TZNAME:EDT
DTSTART:20200308T070000
END:DAYLIGHT
BEGIN:STANDARD
TZOFFSETFROM:-0400
TZOFFSETTO:-0500
TZNAME:EST
DTSTART:20201101T060000
END:STANDARD
BEGIN:DAYLIGHT
TZOFFSETFROM:-0500
TZOFFSETTO:-0400
TZNAME:EDT
DTSTART:20210314T070000
END:DAYLIGHT
BEGIN:STANDARD
TZOFFSETFROM:-0400
TZOFFSETTO:-0500
TZNAME:EST
DTSTART:20211107T060000
END:STANDARD
BEGIN:DAYLIGHT
TZOFFSETFROM:-0500
TZOFFSETTO:-0400
TZNAME:EDT
DTSTART:20220313T070000
END:DAYLIGHT
BEGIN:STANDARD
TZOFFSETFROM:-0400
TZOFFSETTO:-0500
TZNAME:EST
DTSTART:20221106T060000
END:STANDARD
END:VTIMEZONE
BEGIN:VEVENT
DTSTART;TZID=America/Detroit:20211020T190000
DTEND;TZID=America/Detroit:20211020T190000
DTSTAMP:20260421T220118
CREATED:20210821T114443Z
LAST-MODIFIED:20211019T152058Z
UID:100705-1634756400-1634756400@downrivergenealogy.org
SUMMARY:The Erie Canal with Gary Rembisz
DESCRIPTION:The Erie Canal is America’s first superhighway\, over 364 miles long. It was built without steam power and through the Adirondack Mountains\, up and down hills\, massive boulders\, and uprooting giant trees. How did they get all the water to the canal and keep it in? How did they make water run uphill? It was built with picks and shovels and muscle and blood\, and an American dream.
URL:https://downrivergenealogy.org/event/the-erie-canal-with-gary-rembisz/
LOCATION:Copeland Center\, 2306 Fourth Street\, Wyandotte\, Michigan\, 48192
CATEGORIES:DRGS membership meetings
ATTACH;FMTTYPE=image/jpeg:https://downrivergenealogy.org/wp-content/uploads/2021/07/GaryRembisz-e1629723553365.jpg
END:VEVENT
BEGIN:VEVENT
DTSTART;TZID=America/Detroit:20210915T190000
DTEND;TZID=America/Detroit:20210915T190000
DTSTAMP:20260421T220118
CREATED:20210821T110015Z
LAST-MODIFIED:20210915T192544Z
UID:100693-1631732400-1631732400@downrivergenealogy.org
SUMMARY:Membership sharing
DESCRIPTION:We are back in person at Copeland Center! Our program invites members to speak on findings\, research\, relics\, family stories\, or any other genealogy-related story you would like to share with our group. It’s been a long year\, and we are excited to see you again. Depending on the number of people who wish to speak\, we may limit time at the podium to 5 minutes.
URL:https://downrivergenealogy.org/event/membership-sharing/
LOCATION:Copeland Center\, 2306 Fourth Street\, Wyandotte\, Michigan\, 48192
CATEGORIES:DRGS membership meetings
END:VEVENT
END:VCALENDAR