BEGIN:VCALENDAR
VERSION:2.0
PRODID:-//Downriver Genealogical Society - ECPv6.15.20//NONSGML v1.0//EN
CALSCALE:GREGORIAN
METHOD:PUBLISH
X-WR-CALNAME:Downriver Genealogical Society
X-ORIGINAL-URL:https://downrivergenealogy.org
X-WR-CALDESC:Events for Downriver Genealogical Society
REFRESH-INTERVAL;VALUE=DURATION:PT1H
X-Robots-Tag:noindex
X-PUBLISHED-TTL:PT1H
BEGIN:VTIMEZONE
TZID:America/Detroit
BEGIN:DAYLIGHT
TZOFFSETFROM:-0500
TZOFFSETTO:-0400
TZNAME:EDT
DTSTART:20250309T070000
END:DAYLIGHT
BEGIN:STANDARD
TZOFFSETFROM:-0400
TZOFFSETTO:-0500
TZNAME:EST
DTSTART:20251102T060000
END:STANDARD
BEGIN:DAYLIGHT
TZOFFSETFROM:-0500
TZOFFSETTO:-0400
TZNAME:EDT
DTSTART:20260308T070000
END:DAYLIGHT
BEGIN:STANDARD
TZOFFSETFROM:-0400
TZOFFSETTO:-0500
TZNAME:EST
DTSTART:20261101T060000
END:STANDARD
BEGIN:DAYLIGHT
TZOFFSETFROM:-0500
TZOFFSETTO:-0400
TZNAME:EDT
DTSTART:20270314T070000
END:DAYLIGHT
BEGIN:STANDARD
TZOFFSETFROM:-0400
TZOFFSETTO:-0500
TZNAME:EST
DTSTART:20271107T060000
END:STANDARD
END:VTIMEZONE
BEGIN:VEVENT
DTSTART;TZID=America/Detroit:20261021T190000
DTEND;TZID=America/Detroit:20261021T210000
DTSTAMP:20260421T074505
CREATED:20251110T103828Z
LAST-MODIFIED:20251110T103829Z
UID:226019-1792609200-1792616400@downrivergenealogy.org
SUMMARY:Oakwood Cemetery with Mary-Johna Wein
DESCRIPTION:2026 marks 200 years since the first burial at Oakwood Cemetery — Wyandotte’s oldest landmark. Within its gates rest former slaves\, soldiers\, state legislators\, and everyday citizens whose lives shaped the community. From tales of the Purple Gang to stories of body snatchers\, Oakwood holds a rich and fascinating history that continues to echo through time.
URL:https://downrivergenealogy.org/event/oakwood-cemetery-with-mary-johna-wein/
LOCATION:Copeland Center\, 2306 Fourth Street\, Wyandotte\, Michigan\, 48192
CATEGORIES:DRGS membership meetings
ATTACH;FMTTYPE=image/jpeg:https://downrivergenealogy.org/wp-content/uploads/2025/11/Mary-Johna-Wein-e1762771089719.jpg
END:VEVENT
END:VCALENDAR