BEGIN:VCALENDAR
VERSION:2.0
PRODID:-//Downriver Genealogical Society - ECPv6.15.20//NONSGML v1.0//EN
CALSCALE:GREGORIAN
METHOD:PUBLISH
X-WR-CALNAME:Downriver Genealogical Society
X-ORIGINAL-URL:https://downrivergenealogy.org
X-WR-CALDESC:Events for Downriver Genealogical Society
REFRESH-INTERVAL;VALUE=DURATION:PT1H
X-Robots-Tag:noindex
X-PUBLISHED-TTL:PT1H
BEGIN:VTIMEZONE
TZID:America/Detroit
BEGIN:DAYLIGHT
TZOFFSETFROM:-0500
TZOFFSETTO:-0400
TZNAME:EDT
DTSTART:20250309T070000
END:DAYLIGHT
BEGIN:STANDARD
TZOFFSETFROM:-0400
TZOFFSETTO:-0500
TZNAME:EST
DTSTART:20251102T060000
END:STANDARD
BEGIN:DAYLIGHT
TZOFFSETFROM:-0500
TZOFFSETTO:-0400
TZNAME:EDT
DTSTART:20260308T070000
END:DAYLIGHT
BEGIN:STANDARD
TZOFFSETFROM:-0400
TZOFFSETTO:-0500
TZNAME:EST
DTSTART:20261101T060000
END:STANDARD
BEGIN:DAYLIGHT
TZOFFSETFROM:-0500
TZOFFSETTO:-0400
TZNAME:EDT
DTSTART:20270314T070000
END:DAYLIGHT
BEGIN:STANDARD
TZOFFSETFROM:-0400
TZOFFSETTO:-0500
TZNAME:EST
DTSTART:20271107T060000
END:STANDARD
END:VTIMEZONE
BEGIN:VEVENT
DTSTART;TZID=America/Detroit:20260318T190000
DTEND;TZID=America/Detroit:20260318T210000
DTSTAMP:20260421T012434
CREATED:20251013T101225Z
LAST-MODIFIED:20260113T112146Z
UID:225998-1773860400-1773867600@downrivergenealogy.org
SUMMARY:Breaking Down Brick Walls with Dan Fantore
DESCRIPTION:Build a Brick Wall?  Genealogists already have plenty of them!  You’ve researched your ancestors\, have found another generation and then—no progress.  Genealogists get stuck. Brick walls may last for years or a life time\, but more knowledge and more skills may knock that brick wall down.  Learn about the causes of Genealogical Brick Walls and learn the potential solutions to scaling those Brick Walls.  The causes of Brick Walls are many and the solutions may be many also.  Bring your Brick Walls.  You’ve overcome Brick Walls in the past—you can do it again!  Dan Fantore just solved a brick wall of 30 years and he is eager to share his brick wall solutions. \n 
URL:https://downrivergenealogy.org/event/breaking-down-brick-walls-with-dan-fantore/
LOCATION:Copeland Center\, 2306 Fourth Street\, Wyandotte\, Michigan\, 48192
CATEGORIES:DRGS membership meetings
ATTACH;FMTTYPE=image/jpeg:https://downrivergenealogy.org/wp-content/uploads/2026/DanFantore-scaled-e1768303191122.jpg
END:VEVENT
END:VCALENDAR