BEGIN:VCALENDAR
VERSION:2.0
PRODID:-//Downriver Genealogical Society - ECPv6.15.20//NONSGML v1.0//EN
CALSCALE:GREGORIAN
METHOD:PUBLISH
X-WR-CALNAME:Downriver Genealogical Society
X-ORIGINAL-URL:https://downrivergenealogy.org
X-WR-CALDESC:Events for Downriver Genealogical Society
REFRESH-INTERVAL;VALUE=DURATION:PT1H
X-Robots-Tag:noindex
X-PUBLISHED-TTL:PT1H
BEGIN:VTIMEZONE
TZID:America/Detroit
BEGIN:DAYLIGHT
TZOFFSETFROM:-0500
TZOFFSETTO:-0400
TZNAME:EDT
DTSTART:20250309T070000
END:DAYLIGHT
BEGIN:STANDARD
TZOFFSETFROM:-0400
TZOFFSETTO:-0500
TZNAME:EST
DTSTART:20251102T060000
END:STANDARD
BEGIN:DAYLIGHT
TZOFFSETFROM:-0500
TZOFFSETTO:-0400
TZNAME:EDT
DTSTART:20260308T070000
END:DAYLIGHT
BEGIN:STANDARD
TZOFFSETFROM:-0400
TZOFFSETTO:-0500
TZNAME:EST
DTSTART:20261101T060000
END:STANDARD
BEGIN:DAYLIGHT
TZOFFSETFROM:-0500
TZOFFSETTO:-0400
TZNAME:EDT
DTSTART:20270314T070000
END:DAYLIGHT
BEGIN:STANDARD
TZOFFSETFROM:-0400
TZOFFSETTO:-0500
TZNAME:EST
DTSTART:20271107T060000
END:STANDARD
END:VTIMEZONE
BEGIN:VEVENT
DTSTART;TZID=America/Detroit:20260121T190000
DTEND;TZID=America/Detroit:20260121T190000
DTSTAMP:20260421T050441
CREATED:20250414T110838Z
LAST-MODIFIED:20250418T101605Z
UID:225848-1769022000-1769022000@downrivergenealogy.org
SUMMARY:Lighthouse Stories: Offshore Outposts with Ric Mixter
DESCRIPTION:Michigan is home to over 120 lighthouses\, which not only mark harbors but also guide ships\naround underwater obstructions. These beacons are located anywhere that ships may travel\,\nmeaning many of them are in the middle of the Great Lakes\, including the most remote\nlighthouse in the United States\, Stannard Rock. It was here that an explosion ripped through a\nmachinery building\, killing the chief keeper and wounding a young electrician sent to the light\nto perform maintenance. In an exclusive interview\, Ric Mixter shares an eyewitness account of\nthe man who was wounded in the the explosion with his story of awaiting rescue on the deck\nwith two other men. \nRic also shares scientific missions now taking place on these remote outposts\, including\nSpectacle Reef in the Straits of Mackinac. Stories from Lake Superior’s Huron Island are also a\nhighlight of this talk\, with an interview from a young man whose father was stationed off\nL’Anse. \nAlso featured is the million dollar rehab of DeTour Reef\, including stories from the men who\nwere stationed in the St Mary’s River for several months out of the year. \nRic Mixter is a former three term president of the Great Lakes Lighthouse Keepers Association\,\nand a frequent contributor to Beacon magazine. This presentation is a must for lighthouse fans\nand people interested in how men survived working on these desolate towers.
URL:https://downrivergenealogy.org/event/lighthouse-stories-offshore-outposts-with-ric-mixter/
LOCATION:Copeland Center\, 2306 Fourth Street\, Wyandotte\, Michigan\, 48192
CATEGORIES:DRGS membership meetings
ATTACH;FMTTYPE=image/jpeg:https://downrivergenealogy.org/wp-content/uploads/2025/04/Lighthouse-Stories-e1744628898292.jpg
END:VEVENT
END:VCALENDAR