BEGIN:VCALENDAR
VERSION:2.0
PRODID:-//Downriver Genealogical Society - ECPv6.15.20//NONSGML v1.0//EN
CALSCALE:GREGORIAN
METHOD:PUBLISH
X-WR-CALNAME:Downriver Genealogical Society
X-ORIGINAL-URL:https://downrivergenealogy.org
X-WR-CALDESC:Events for Downriver Genealogical Society
REFRESH-INTERVAL;VALUE=DURATION:PT1H
X-Robots-Tag:noindex
X-PUBLISHED-TTL:PT1H
BEGIN:VTIMEZONE
TZID:America/Detroit
BEGIN:DAYLIGHT
TZOFFSETFROM:-0500
TZOFFSETTO:-0400
TZNAME:EDT
DTSTART:20240310T070000
END:DAYLIGHT
BEGIN:STANDARD
TZOFFSETFROM:-0400
TZOFFSETTO:-0500
TZNAME:EST
DTSTART:20241103T060000
END:STANDARD
BEGIN:DAYLIGHT
TZOFFSETFROM:-0500
TZOFFSETTO:-0400
TZNAME:EDT
DTSTART:20250309T070000
END:DAYLIGHT
BEGIN:STANDARD
TZOFFSETFROM:-0400
TZOFFSETTO:-0500
TZNAME:EST
DTSTART:20251102T060000
END:STANDARD
BEGIN:DAYLIGHT
TZOFFSETFROM:-0500
TZOFFSETTO:-0400
TZNAME:EDT
DTSTART:20260308T070000
END:DAYLIGHT
BEGIN:STANDARD
TZOFFSETFROM:-0400
TZOFFSETTO:-0500
TZNAME:EST
DTSTART:20261101T060000
END:STANDARD
END:VTIMEZONE
BEGIN:VEVENT
DTSTART;TZID=America/Detroit:20250618T173000
DTEND;TZID=America/Detroit:20250618T190000
DTSTAMP:20260421T180032
CREATED:20240429T121125Z
LAST-MODIFIED:20251013T145019Z
UID:225657-1750267800-1750273200@downrivergenealogy.org
SUMMARY:DRGS Annual Potluck Dinner
DESCRIPTION:Dinner will be at 6:00 pm\, Program and meeting will follow at 7:00 pm. \nDoors open at 5:30 pm
URL:https://downrivergenealogy.org/event/drgs-annual-potluck-dinner-2/
LOCATION:Copeland Center\, 2306 Fourth Street\, Wyandotte\, Michigan\, 48192
CATEGORIES:DRGS membership meetings,Other Event
ATTACH;FMTTYPE=image/jpeg:https://downrivergenealogy.org/wp-content/uploads/2022/06/shutterstock_dinner_467823869-scaled-e1655213336186.jpg
END:VEVENT
BEGIN:VEVENT
DTSTART;TZID=America/Detroit:20250618T190000
DTEND;TZID=America/Detroit:20250618T210000
DTSTAMP:20260421T180032
CREATED:20240918T200433Z
LAST-MODIFIED:20250519T121736Z
UID:225734-1750273200-1750280400@downrivergenealogy.org
SUMMARY:Advanced Tips and Tricks for Genealogy Research with Dolores Shearon
DESCRIPTION:Whether beginners or experienced genealogists\, eager learners can always pick up new information to make their research more efficient — and more enjoyable. Here’s a sample: When you name your family tree on one of the big genealogy websites\, don’t get cutesy. Instead\, set out some “cousin bait” by titling it with the major surnames you’re researching (e.g. Jones-Miller-Moore-Brown Family Tree). Ready to learn more? This presentation will bring you curated pointers on an array of research topics\, with a handout that will get you pumped to go home and try them out!
URL:https://downrivergenealogy.org/event/advanced-tips-and-tricks-for-genealogy-research-with-dolores-shearon/
LOCATION:Copeland Center\, 2306 Fourth Street\, Wyandotte\, Michigan\, 48192
CATEGORIES:DRGS membership meetings
ATTACH;FMTTYPE=image/jpeg:https://downrivergenealogy.org/wp-content/uploads/2024/09/Shearon-Dolores-e1746713845680.jpg
END:VEVENT
END:VCALENDAR